BEGIN:VCALENDAR
VERSION:2.0
PRODID:-//AZ AANHPI For Equity - ECPv6.15.20//NONSGML v1.0//EN
CALSCALE:GREGORIAN
METHOD:PUBLISH
X-WR-CALNAME:AZ AANHPI For Equity
X-ORIGINAL-URL:https://aanhpi.org
X-WR-CALDESC:Events for AZ AANHPI For Equity
REFRESH-INTERVAL;VALUE=DURATION:PT1H
X-Robots-Tag:noindex
X-PUBLISHED-TTL:PT1H
BEGIN:VTIMEZONE
TZID:America/Phoenix
BEGIN:STANDARD
TZOFFSETFROM:-0700
TZOFFSETTO:-0700
TZNAME:MST
DTSTART:20210101T000000
END:STANDARD
END:VTIMEZONE
BEGIN:VTIMEZONE
TZID:America/Denver
BEGIN:DAYLIGHT
TZOFFSETFROM:-0700
TZOFFSETTO:-0600
TZNAME:MDT
DTSTART:20200308T090000
END:DAYLIGHT
BEGIN:STANDARD
TZOFFSETFROM:-0600
TZOFFSETTO:-0700
TZNAME:MST
DTSTART:20201101T080000
END:STANDARD
BEGIN:DAYLIGHT
TZOFFSETFROM:-0700
TZOFFSETTO:-0600
TZNAME:MDT
DTSTART:20210314T090000
END:DAYLIGHT
BEGIN:STANDARD
TZOFFSETFROM:-0600
TZOFFSETTO:-0700
TZNAME:MST
DTSTART:20211107T080000
END:STANDARD
BEGIN:DAYLIGHT
TZOFFSETFROM:-0700
TZOFFSETTO:-0600
TZNAME:MDT
DTSTART:20220313T090000
END:DAYLIGHT
BEGIN:STANDARD
TZOFFSETFROM:-0600
TZOFFSETTO:-0700
TZNAME:MST
DTSTART:20221106T080000
END:STANDARD
BEGIN:DAYLIGHT
TZOFFSETFROM:-0700
TZOFFSETTO:-0600
TZNAME:MDT
DTSTART:20230312T090000
END:DAYLIGHT
BEGIN:STANDARD
TZOFFSETFROM:-0600
TZOFFSETTO:-0700
TZNAME:MST
DTSTART:20231105T080000
END:STANDARD
END:VTIMEZONE
BEGIN:VTIMEZONE
TZID:America/Los_Angeles
BEGIN:DAYLIGHT
TZOFFSETFROM:-0800
TZOFFSETTO:-0700
TZNAME:PDT
DTSTART:20200308T100000
END:DAYLIGHT
BEGIN:STANDARD
TZOFFSETFROM:-0700
TZOFFSETTO:-0800
TZNAME:PST
DTSTART:20201101T090000
END:STANDARD
BEGIN:DAYLIGHT
TZOFFSETFROM:-0800
TZOFFSETTO:-0700
TZNAME:PDT
DTSTART:20210314T100000
END:DAYLIGHT
BEGIN:STANDARD
TZOFFSETFROM:-0700
TZOFFSETTO:-0800
TZNAME:PST
DTSTART:20211107T090000
END:STANDARD
BEGIN:DAYLIGHT
TZOFFSETFROM:-0800
TZOFFSETTO:-0700
TZNAME:PDT
DTSTART:20220313T100000
END:DAYLIGHT
BEGIN:STANDARD
TZOFFSETFROM:-0700
TZOFFSETTO:-0800
TZNAME:PST
DTSTART:20221106T090000
END:STANDARD
END:VTIMEZONE
BEGIN:VEVENT
DTSTART;TZID=America/Phoenix:20221029T170000
DTEND;TZID=America/Phoenix:20221029T190000
DTSTAMP:20260424T142302
CREATED:20221003T235818Z
LAST-MODIFIED:20221003T235818Z
UID:2912-1667062800-1667070000@aanhpi.org
SUMMARY:Spooky Climate Healing Circle in Tempe
DESCRIPTION:What is scarier than irreversible climate change? This healing circle is going to be based around climate change and eco anxiety. We will have a fun spooky themed set up with spooky snacks to help bring a little halloween fun and light-heartedness to this heavy and emotionally packed topic. This is an event for all ages and we invite everyone to come dressed in an appropriate costume of their choice if they wish! (There just may be a prize for the best costume!!)
URL:https://aanhpi.org/event/spooky-climate-healing-circle-in-tempe/
END:VEVENT
BEGIN:VEVENT
DTSTART;TZID=America/Phoenix:20221026T170000
DTEND;TZID=America/Phoenix:20221026T180000
DTSTAMP:20260424T142302
CREATED:20221003T235735Z
LAST-MODIFIED:20221003T235735Z
UID:2910-1666803600-1666807200@aanhpi.org
SUMMARY:Spooky Climate Healing Circle in Tucson
DESCRIPTION:What is scarier than irreversible climate change? This healing circle is going to be based around climate change and eco anxiety. We will have a fun spooky themed set up with spooky snacks to help bring a little halloween fun and light-heartedness to this heavy and emotionally packed topic. This is an event for all ages and we invite everyone to come dressed in an appropriate costume of their choice if they wish! (There just may be a prize for the best costume!!)
URL:https://aanhpi.org/event/spooky-climate-healing-circle-in-tucson/
END:VEVENT
BEGIN:VEVENT
DTSTART;TZID=America/Phoenix:20221022T100000
DTEND;TZID=America/Phoenix:20221022T140000
DTSTAMP:20260424T142302
CREATED:20221003T235641Z
LAST-MODIFIED:20221004T000049Z
UID:2906-1666432800-1666447200@aanhpi.org
SUMMARY:Vaccine Event
DESCRIPTION:
URL:https://aanhpi.org/event/vaccine-event/
LOCATION:AZ AANHPI for Equity\, 1011 S. McClintock Dr.\, Tempe\, AZ\, 85821\, United States
END:VEVENT
BEGIN:VEVENT
DTSTART;TZID=America/Phoenix:20221015T140000
DTEND;TZID=America/Phoenix:20221015T160000
DTSTAMP:20260424T142302
CREATED:20221003T235235Z
LAST-MODIFIED:20221003T235235Z
UID:2900-1665842400-1665849600@aanhpi.org
SUMMARY:Environmental Justice Book Club Meeting
DESCRIPTION:
URL:https://aanhpi.org/event/environmental-justice-book-club-meeting/
LOCATION:AZ AANHPI for Equity\, 1011 S. McClintock Dr.\, Tempe\, AZ\, 85821\, United States
END:VEVENT
BEGIN:VEVENT
DTSTART;VALUE=DATE:20221015
DTEND;VALUE=DATE:20221017
DTSTAMP:20260424T142302
CREATED:20221003T235437Z
LAST-MODIFIED:20221004T000000Z
UID:2902-1665792000-1665964799@aanhpi.org
SUMMARY:PHOENIX PRIDE!
DESCRIPTION:
URL:https://aanhpi.org/event/phoenix-pride/
LOCATION:Steele Indian School Park\, 300 E Indian School Rd\, Phoenix\, AZ\, 85012\, United States
END:VEVENT
BEGIN:VEVENT
DTSTART;TZID=America/Phoenix:20221008T173000
DTEND;TZID=America/Phoenix:20221009T163000
DTSTAMP:20260424T142302
CREATED:20221003T235147Z
LAST-MODIFIED:20221004T000118Z
UID:2896-1665250200-1665333000@aanhpi.org
SUMMARY:Kamayan Festival ADNM 2022
DESCRIPTION:Asian District Night Market: Kamayan Festival\n \nCelebrate a night full of food\, entertainment\, friends\, and music\, with an emphasis on Filipino culture in our Kamayan Feast! \n\n\nCome celebrate another Asian District Night Market with us! This time around\, we are celebrating Filipino American History Month with our very own Kamayan Festival. Amazing performances and mouth watering food\, our event will be on October 8th from 5:30pm – 12:00am (Early entry opens at 5:00!) and October 9th from 11:00am – 4:30pm at AZ International 1920 W Broadway Rd. \n**Kids 3 and under are free!** \nSee you out there!
URL:https://aanhpi.org/event/kamayan-festival-adnm-2022/
LOCATION:AZ International Marketplace\, 1920 West Broadway Road\, Mesa\, AZ\, 85202\, United States
END:VEVENT
BEGIN:VEVENT
DTSTART;TZID=America/Phoenix:20221008T120000
DTEND;TZID=America/Phoenix:20221008T150000
DTSTAMP:20260424T142302
CREATED:20221003T234805Z
LAST-MODIFIED:20221003T234805Z
UID:2894-1665230400-1665241200@aanhpi.org
SUMMARY:Postcard Party
DESCRIPTION:Come by our office (1011 S. McClintock Dr.\, Tempe\, AZ 85281) and join our postcard writing party. We will be reaching out to voters to ask them to vote for our reproductive rights and for climate justice. Food\, drinks\, and entertainment will be provided. \n 
URL:https://aanhpi.org/event/postcard-party-2/
LOCATION:AZ AANHPI for Equity\, 1011 S. McClintock Dr.\, Tempe\, AZ\, 85821\, United States
END:VEVENT
BEGIN:VEVENT
DTSTART;TZID=America/Phoenix:20221007T160000
DTEND;TZID=America/Phoenix:20221007T180000
DTSTAMP:20260424T142302
CREATED:20221003T234727Z
LAST-MODIFIED:20221003T234727Z
UID:2892-1665158400-1665165600@aanhpi.org
SUMMARY:Postcard Party
DESCRIPTION:Come by our office (1011 S. McClintock Dr.\, Tempe\, AZ 85281) and join our postcard writing party. We will be reaching out to voters to ask them to vote for our reproductive rights and for climate justice. Food\, drinks\, and entertainment will be provided. \n 
URL:https://aanhpi.org/event/postcard-party/
LOCATION:AZ AANHPI for Equity\, 1011 S. McClintock Dr.\, Tempe\, AZ\, 85821\, United States
END:VEVENT
BEGIN:VEVENT
DTSTART;TZID=America/Phoenix:20220924T160000
DTEND;TZID=America/Phoenix:20220924T200000
DTSTAMP:20260424T142302
CREATED:20220519T170713Z
LAST-MODIFIED:20220519T170713Z
UID:2445-1664035200-1664049600@aanhpi.org
SUMMARY:Multicultural Art & Music Event
DESCRIPTION:
URL:https://aanhpi.org/event/multicultural-art-music-event/
LOCATION:El Oso Park\, 3451 N 75th Ave\, Phoenix\, AZ\, 85033\, United States
END:VEVENT
BEGIN:VEVENT
DTSTART;TZID=America/Phoenix:20220822T140000
DTEND;TZID=America/Phoenix:20220822T180000
DTSTAMP:20260424T142302
CREATED:20220811T013030Z
LAST-MODIFIED:20220811T013030Z
UID:2697-1661176800-1661191200@aanhpi.org
SUMMARY:Vaccine Distribution
DESCRIPTION:
URL:https://aanhpi.org/event/vaccine-distribution/
LOCATION:AZ AANHPI for Equity\, 1011 S. McClintock Dr.\, Tempe\, AZ\, 85821\, United States
END:VEVENT
BEGIN:VEVENT
DTSTART;TZID=America/Phoenix:20220820T090000
DTEND;TZID=America/Phoenix:20220820T170000
DTSTAMP:20260424T142302
CREATED:20220811T012900Z
LAST-MODIFIED:20220811T012900Z
UID:2692-1660986000-1661014800@aanhpi.org
SUMMARY:APIA Vote Voter Engagement Training
DESCRIPTION:August 20: Nonpartisan AAPI Voter Engagement in Arizona\nWant to empower those in your community to vote? Join us for a voter engagement training! We will be discussing many topics such as registering voters\, increasing voter turnout\, important dates in the upcoming election\, and more. \nREGISTER
URL:https://aanhpi.org/event/apia-vote-voter-engagement-training/
LOCATION:CO+HOOTS\, 221 E. Indianola Ave\, Phoenix\, AZ\, 85012\, United States
END:VEVENT
BEGIN:VEVENT
DTSTART;TZID=America/Phoenix:20220819T100000
DTEND;TZID=America/Phoenix:20220819T113000
DTSTAMP:20260424T142302
CREATED:20220811T012443Z
LAST-MODIFIED:20220811T012507Z
UID:2689-1660903200-1660908600@aanhpi.org
SUMMARY:White House Initiative on AANHPI Health Summit
DESCRIPTION:Friday\, August 19th\, 10-11:30am\nUniversity of Arizona College of Medicine\nVirginia Piper Auditorium\n600 East Van Buren St.\nPhoenix\, AZ 85004 \nRegistration Link\nSpace is limited. Please register and share with your network interested in attending. \nThe Summit is proposed to be 1 ½ hours because it will involve a main panel discussion on health care and the AANHPI community with breakout rooms. The topic proposals for the Summit/break out sessions would be: \n\nMental Health and the Elderly\nMental Health Issues and AANHPI Youth\nHealthcare and Women
URL:https://aanhpi.org/event/white-house-initiative-on-aanhpi-health-summit/
LOCATION:University of Arizona College of Medicine\, 600 East Van Buren St.\, Phoenix\, AZ\, 85004\, United States
END:VEVENT
BEGIN:VEVENT
DTSTART;TZID=America/Phoenix:20220813T173000
DTEND;TZID=America/Phoenix:20220813T203000
DTSTAMP:20260424T142302
CREATED:20220811T012225Z
LAST-MODIFIED:20220811T020347Z
UID:2686-1660411800-1660422600@aanhpi.org
SUMMARY:Civic Engagement Youth Fellowship Graduation
DESCRIPTION:Saturday\, August 13th\, 5:30-8:30pm @ Social Hall Restaurant 715 S. McClintock Dr. Tempe AZ\, 85281.
URL:https://aanhpi.org/event/civic-engagement-youth-fellowship-graduation/
LOCATION:Social Hall Restaurant\, 715 S. McClintock Dr.\, Phoenix\, AZ\, 85281\, United States
END:VEVENT
BEGIN:VEVENT
DTSTART;TZID=America/Phoenix:20220729T170000
DTEND;TZID=America/Phoenix:20220729T190000
DTSTAMP:20260424T142302
CREATED:20220706T014825Z
LAST-MODIFIED:20220706T014825Z
UID:2676-1659114000-1659121200@aanhpi.org
SUMMARY:LGBTQIA+ Healing Circle
DESCRIPTION:Register: bit.ly/AANHPIHealing \nIn person event at AANHPI Community Center. Our goal is to bring local AANHPI together to discuss the generational gap that we experience while discussing ways we can cope and heal from it. There will be food catered. This is the opening session of a series of Healing Circles we will host for the AANHPI community. \nPlease contact may@aanhpi.org for any questions.
URL:https://aanhpi.org/event/lgbtqia-healing-circle/
LOCATION:AZ AANHPI for Equity\, 1011 S. McClintock Dr.\, Tempe\, AZ\, 85821\, United States
END:VEVENT
BEGIN:VEVENT
DTSTART;TZID=America/Phoenix:20220716T120000
DTEND;TZID=America/Phoenix:20220716T210000
DTSTAMP:20260424T142302
CREATED:20220706T014347Z
LAST-MODIFIED:20220706T014347Z
UID:2672-1657972800-1658005200@aanhpi.org
SUMMARY:Ganbatte Anime Mini Con
DESCRIPTION:AZ AANHPI for Equity will be participating in the Ganbatte Anime Mini Con!
URL:https://aanhpi.org/event/ganbatte-anime-mini-con/
LOCATION:Sun Studios\, 1425 W 14th St\, Tempe\, AZ\, 85281\, United States
END:VEVENT
BEGIN:VEVENT
DTSTART;TZID=America/Phoenix:20220708T110000
DTEND;TZID=America/Phoenix:20220708T130000
DTSTAMP:20260424T142302
CREATED:20220706T013913Z
LAST-MODIFIED:20220706T013913Z
UID:2670-1657278000-1657285200@aanhpi.org
SUMMARY:Advocacy Day at the State Capitol for Civic Engagement Fellowship
DESCRIPTION:Advocacy Day at the State Capitol for Civic Engagement Fellowship
URL:https://aanhpi.org/event/advocacy-day-at-the-state-capitol-for-civic-engagement-fellowship/
LOCATION:Arizona State Capitol at 1700 W Washington St\, Phoenix\, AZ 85007\, Arizona State Capitol at 1700 W Washington St\, Phoenix\, AZ\, 85007\, United States
END:VEVENT
BEGIN:VEVENT
DTSTART;TZID=America/Denver:20220521T150000
DTEND;TZID=America/Denver:20220521T180000
DTSTAMP:20260424T142302
CREATED:20220518T220052Z
LAST-MODIFIED:20220519T235127Z
UID:2162-1653145200-1653156000@aanhpi.org
SUMMARY:AAPI Healing Circle
DESCRIPTION:We are hosting a Healing Circle to discuss the Generational Gap so many of us AANHPI people face. Shela Yu\, Phoenix muralist and community activist\, and Angela Tran\, ASU ASA alumni who is studying psychology with a minor in Asian pacific American studies. Angela states that she wanted to study psychology because she felt there was a lack of Asian representation within this field and aims to become a psychologist or a therapist. Her goal is to help those within the AANHPI community get the help they need and be able to help lessen the huge stigma against mental health within Asian communities. \n\n\n\nREGISTER HERE
URL:https://aanhpi.org/event/aapi-healing-circle/
LOCATION:AZ AANHPI for Equity\, 1011 S. McClintock Dr.\, Tempe\, AZ\, 85821\, United States
END:VEVENT
BEGIN:VEVENT
DTSTART;TZID=America/Denver:20220325T140000
DTEND;TZID=America/Denver:20220325T170000
DTSTAMP:20260424T142302
CREATED:20220322T075923Z
LAST-MODIFIED:20220322T080020Z
UID:1499-1648216800-1648227600@aanhpi.org
SUMMARY:Phoenix Climate Strike
DESCRIPTION:After Ignite the Capitol\, join us and AZ Youth Climate Coalition at the Phoenix Climate Strike on the State Capitol Lawn.
URL:https://aanhpi.org/event/phoenix-climate-strike/
LOCATION:Arizona State Capitol at 1700 W Washington St\, Phoenix\, AZ 85007\, Arizona State Capitol at 1700 W Washington St\, Phoenix\, AZ\, 85007\, United States
END:VEVENT
BEGIN:VEVENT
DTSTART;TZID=America/Denver:20220325T120000
DTEND;TZID=America/Denver:20220325T120000
DTSTAMP:20260424T142302
CREATED:20220322T075304Z
LAST-MODIFIED:20220322T080723Z
UID:1494-1648209600-1648209600@aanhpi.org
SUMMARY:2022 Advocacy Day: Ignite the Capitol Arizona
DESCRIPTION:Learn to leverage your political power for policy change. At the 2022 IGNITE the Capitol Arizona day of advocacy\, amplify your voice to advocate for issues you care about most. \nJoin IGNITE and AZ AANHPI For Equity Coalition to voice your concerns and visions to your elected leaders. \nWe’ll equip you with the tools and confidence to use your political power to shape Arizona’s policy agenda and champion bills. You’ll learn: \n\nthe basics of why it is critical your legislators hear from you\,\nhow to be an effective advocate\, and\nhow to actively participate in Arizona’s lawmaking process.\n\nWe will meet with Arizona legislators and their aides in person. \nRSVP HERE.
URL:https://aanhpi.org/event/2022-advocacy-day-ignite-the-capitol-arizona-2/
LOCATION:Arizona State Capitol at 1700 W Washington St\, Phoenix\, AZ 85007\, Arizona State Capitol at 1700 W Washington St\, Phoenix\, AZ\, 85007\, United States
END:VEVENT
BEGIN:VEVENT
DTSTART;TZID=America/Denver:20220122T173000
DTEND;TZID=America/Denver:20220122T203000
DTSTAMP:20260424T142302
CREATED:20211214T120003Z
LAST-MODIFIED:20211214T120003Z
UID:1433-1642872600-1642883400@aanhpi.org
SUMMARY:Art and Film Showcase Contest
DESCRIPTION:🚨Attention all artists and filmmakers!! 🚨 \n🎨🎥 AZ AANHPI For Equity and Arizona Youth Climate Coalition are hosting a voting rights and environmental justice themed art and film showcase! We can’t wait to see what you come up with! 🌵 \nThe event will be at Baseline Flowers on January 22nd from 5:30 to 8:30 PM. \nWe are accepting submissions of films and visual art or graphics until January 4th\, 2021. ☀️ Prizes of up to $500! \nRead the guidelines and criteria here\, and make a submission here.
URL:https://aanhpi.org/event/art-and-film-showcase-contest/
LOCATION:Baseline Flowers\, 3801 Baseline Rd.\, Phoenix\, AZ\, 85042\, United States
END:VEVENT
BEGIN:VEVENT
DTSTART;TZID=America/Denver:20220106T100000
DTEND;TZID=America/Denver:20220106T160000
DTSTAMP:20260424T142302
CREATED:20211214T120553Z
LAST-MODIFIED:20211214T121709Z
UID:1437-1641463200-1641484800@aanhpi.org
SUMMARY:2022 Advocacy Day: Ignite the Capitol Arizona
DESCRIPTION:Join IGNITE and the AZ AANHPI For Equity Coalition in Phoenix\, Arizona\, to voice your concerns and visions to your elected leaders. \nWe’ll equip you with the tools and confidence to use your political power to shape Arizona’s policy agenda and champion bills. You’ll learn: \n-the basics of why it is critical your legislators hear from you\, \n-how to be an effective advocate\, and \n-how to actively participate in Arizona’s lawmaking process. \nWe will meet with legislators and their aides at the Arizona State Capitol. Plan for a full day of training\, meetings\, and lunch. IGNITE and the AZ AANHPI For Equity Coalition will be providing lunch. \nRSVP HERE.
URL:https://aanhpi.org/event/2022-advocacy-day-ignite-the-capitol-arizona/
LOCATION:Baseline Flowers\, 3801 Baseline Rd.\, Phoenix\, AZ\, 85042\, United States
END:VEVENT
BEGIN:VEVENT
DTSTART;TZID=America/Denver:20211218T100000
DTEND;TZID=America/Denver:20211218T140000
DTSTAMP:20260424T142302
CREATED:20211214T115233Z
LAST-MODIFIED:20211214T121421Z
UID:1429-1639821600-1639836000@aanhpi.org
SUMMARY:AAPI Covid-19 Vaccination
DESCRIPTION:Get vaccinated for COVID-19! Booster shots available! \nOrganized by Korean Nurses Association & Arizona Korean Association in partnership with Maricopa County Department of Public Health.
URL:https://aanhpi.org/event/dec-vaccine/
LOCATION:Asiana Market\, 1135 S. Dobson Rd.\, Mesa\, AZ\, 85202\, United States
END:VEVENT
BEGIN:VEVENT
DTSTART;TZID=America/Denver:20211016T130000
DTEND;TZID=America/Denver:20211016T160000
DTSTAMP:20260424T142302
CREATED:20210813T141133Z
LAST-MODIFIED:20210914T173709Z
UID:1151-1634389200-1634400000@aanhpi.org
SUMMARY:AAPI COVID-19 and Flu Vaccination and Health Screening
DESCRIPTION:Flu Vaccination and Health Screening in Partnership with Dignity Health Care
URL:https://aanhpi.org/event/vaccination-october/
LOCATION:Asiana Market\, 1135 S. Dobson Rd.\, Mesa\, AZ\, 85202\, United States
END:VEVENT
BEGIN:VEVENT
DTSTART;TZID=America/Denver:20211002T100000
DTEND;TZID=America/Denver:20211003T180000
DTSTAMP:20260424T142302
CREATED:20210914T180157Z
LAST-MODIFIED:20210914T180453Z
UID:1379-1633168800-1633284000@aanhpi.org
SUMMARY:Asian Moon Multicultural Festival
DESCRIPTION:
URL:https://aanhpi.org/event/asian-moon-multicultural-festival/
LOCATION:Tumbleweed Park 745 E Germann Rd\, Caadler\, AZ 85286\, AZ\, 85286\, United States
ATTACH;FMTTYPE=image/jpeg:https://aanhpi.org/wp-content/uploads/2021/09/IMG_1836.jpg
END:VEVENT
BEGIN:VEVENT
DTSTART;TZID=America/Denver:20210925T170000
DTEND;TZID=America/Denver:20210925T210000
DTSTAMP:20260424T142302
CREATED:20210914T175836Z
LAST-MODIFIED:20210914T180013Z
UID:1376-1632589200-1632603600@aanhpi.org
SUMMARY:Lantern Moon Festival
DESCRIPTION:
URL:https://aanhpi.org/event/lantern-moon-festival/
LOCATION:Murphy Park 5812 W. Glendale Ave. AZ 85301\, AZ\, 85301\, United States
ATTACH;FMTTYPE=image/jpeg:https://aanhpi.org/wp-content/uploads/2021/09/IMG_1837.jpeg
END:VEVENT
BEGIN:VEVENT
DTSTART;TZID=America/Denver:20210925T100000
DTEND;TZID=America/Denver:20210925T130000
DTSTAMP:20260424T142302
CREATED:20210813T115222Z
LAST-MODIFIED:20210813T115222Z
UID:1147-1632564000-1632574800@aanhpi.org
SUMMARY:AAPI COVID-19 and Flu Vaccination and Health Screening
DESCRIPTION:Flu Vaccination and Health Screening in Partnership with Dignity Health Care
URL:https://aanhpi.org/event/vaccination-september/
LOCATION:Asiana Market\, 1135 S. Dobson Rd.\, Mesa\, AZ\, 85202\, United States
END:VEVENT
BEGIN:VEVENT
DTSTART;TZID=America/Denver:20210911T183000
DTEND;TZID=America/Denver:20210911T200000
DTSTAMP:20260424T142302
CREATED:20210914T175248Z
LAST-MODIFIED:20210914T175541Z
UID:1372-1631385000-1631390400@aanhpi.org
SUMMARY:AZ Police Free Back To School Event
DESCRIPTION:
URL:https://aanhpi.org/event/az-police-free-back-to-school-event/
LOCATION:1937 W Adams St\, Phoenix\, AZ 85009\, 1135 S. Dobson Rd.\, Mesa\, AZ\, 85202\, United States
ATTACH;FMTTYPE=image/jpeg:https://aanhpi.org/wp-content/uploads/2021/09/AZ-Police-Free-School-Event.jpg
END:VEVENT
BEGIN:VEVENT
DTSTART;VALUE=DATE:20210828
DTEND;VALUE=DATE:20210829
DTSTAMP:20260424T142302
CREATED:20210812T093248Z
LAST-MODIFIED:20210813T101131Z
UID:1119-1630108800-1630195199@aanhpi.org
SUMMARY:March On for Voting Rights
DESCRIPTION:On Saturday\, August 28\, join us for March On for Voting Rights\, a mass mobilization to demand that elected officials stop hijacking democracy\, denounce voter suppression and ensure fair\, easy access to the vote for all.  \nAZ AANHPI for Equity is excited to join March On\, the Drum Major Institute\, SEIU\, National Action Network\, Future Coalition\, and a network of partners to march on cities across America to mark the 58th anniversary of Martin Luther King Jr.’s historic March on Washington and demand that his vision be deferred no longer. We invite all Americans who believe in the power of democracy and free elections to join us.
URL:https://aanhpi.org/event/march-on-for-voting-rights/
ATTACH;FMTTYPE=image/jpeg:https://aanhpi.org/wp-content/uploads/2021/08/MOFVR_Social4A_Twitter-scaled.jpg
END:VEVENT
BEGIN:VEVENT
DTSTART;TZID=America/Denver:20210814T140000
DTEND;TZID=America/Denver:20210814T160000
DTSTAMP:20260424T142302
CREATED:20210813T114630Z
LAST-MODIFIED:20210813T142534Z
UID:1141-1628949600-1628956800@aanhpi.org
SUMMARY:AAPI COVID-19 Vaccination Back to School Event
DESCRIPTION:
URL:https://aanhpi.org/event/vaccination-august/
LOCATION:Mesa Convention Center\, 263 N. Center St.\, Mesa\, AZ\, 85201\, United States
END:VEVENT
BEGIN:VEVENT
DTSTART;VALUE=DATE:20210813
DTEND;VALUE=DATE:20210817
DTSTAMP:20260424T142302
CREATED:20210813T114114Z
LAST-MODIFIED:20210813T140616Z
UID:1132-1628812800-1629158399@aanhpi.org
SUMMARY:Hope Closet Donation Drive
DESCRIPTION:Drop-off Location: Donut Parlor\, 1245 W Elliot Rd\, Tempe\, AZ \nDonate clothing and other items to benefit the youth juvenile detention center. \nContact: courtni.tran@jbazmc.maricopa.gov
URL:https://aanhpi.org/event/hope-closet/
LOCATION:Donut Parlor\, 1245 W Elliot Rd\, Tempe\, AZ\, 85284\, United States
END:VEVENT
END:VCALENDAR