BEGIN:VCALENDAR
VERSION:2.0
PRODID:-//AZ AANHPI For Equity - ECPv6.15.20//NONSGML v1.0//EN
CALSCALE:GREGORIAN
METHOD:PUBLISH
X-WR-CALNAME:AZ AANHPI For Equity
X-ORIGINAL-URL:https://aanhpi.org
X-WR-CALDESC:Events for AZ AANHPI For Equity
REFRESH-INTERVAL;VALUE=DURATION:PT1H
X-Robots-Tag:noindex
X-PUBLISHED-TTL:PT1H
BEGIN:VTIMEZONE
TZID:America/Denver
BEGIN:DAYLIGHT
TZOFFSETFROM:-0700
TZOFFSETTO:-0600
TZNAME:MDT
DTSTART:20190310T090000
END:DAYLIGHT
BEGIN:STANDARD
TZOFFSETFROM:-0600
TZOFFSETTO:-0700
TZNAME:MST
DTSTART:20191103T080000
END:STANDARD
BEGIN:DAYLIGHT
TZOFFSETFROM:-0700
TZOFFSETTO:-0600
TZNAME:MDT
DTSTART:20200308T090000
END:DAYLIGHT
BEGIN:STANDARD
TZOFFSETFROM:-0600
TZOFFSETTO:-0700
TZNAME:MST
DTSTART:20201101T080000
END:STANDARD
BEGIN:DAYLIGHT
TZOFFSETFROM:-0700
TZOFFSETTO:-0600
TZNAME:MDT
DTSTART:20210314T090000
END:DAYLIGHT
BEGIN:STANDARD
TZOFFSETFROM:-0600
TZOFFSETTO:-0700
TZNAME:MST
DTSTART:20211107T080000
END:STANDARD
END:VTIMEZONE
BEGIN:VEVENT
DTSTART;TZID=America/Denver:20201001T160000
DTEND;TZID=America/Denver:20201001T190000
DTSTAMP:20260424T181206
CREATED:20200922T074438Z
LAST-MODIFIED:20200922T074438Z
UID:822-1601568000-1601578800@aanhpi.org
SUMMARY:Textbank AANHPI-VR Deadline
DESCRIPTION:
URL:https://aanhpi.org/event/textbank-aanhpi-vr-deadline/
END:VEVENT
BEGIN:VEVENT
DTSTART;VALUE=DATE:20200929
DTEND;VALUE=DATE:20200930
DTSTAMP:20260424T181206
CREATED:20200924T211128Z
LAST-MODIFIED:20200924T211321Z
UID:912-1601337600-1601423999@aanhpi.org
SUMMARY:Sign Up Deadline- Chalk it Up for Climate Change and Voting
DESCRIPTION:Sign up by today to create chalk art for climate change or voting for a chance to win a $50 gift card! We provide the chalk\, you create the art! \nSubmit art by October 10th to azaanhpiforequity@gmail.com
URL:https://aanhpi.org/event/sign-up-deadline-chalk-it-up-for-climate-change-and-voting/
END:VEVENT
BEGIN:VEVENT
DTSTART;TZID=America/Denver:20200926T130000
DTEND;TZID=America/Denver:20200926T160000
DTSTAMP:20260424T181206
CREATED:20200922T073745Z
LAST-MODIFIED:20200922T073745Z
UID:818-1601125200-1601136000@aanhpi.org
SUMMARY:Story of Self/Organizing 101
DESCRIPTION:
URL:https://aanhpi.org/event/story-of-self-organizing-101/
END:VEVENT
BEGIN:VEVENT
DTSTART;TZID=America/Denver:20200922T170000
DTEND;TZID=America/Denver:20200922T190000
DTSTAMP:20260424T181206
CREATED:20200923T035136Z
LAST-MODIFIED:20200923T035547Z
UID:869-1600794000-1600801200@aanhpi.org
SUMMARY:Democracy at a Distance- Zoom
DESCRIPTION:Join us for an evening of fun Jeopardy (with prizes!) about voting rights to make sure everyone who can is registered to vote! Hope to see you all there! RSVP to receive the zoom link.
URL:https://aanhpi.org/event/democracy-at-a-distance/
END:VEVENT
BEGIN:VEVENT
DTSTART;VALUE=DATE:20200922
DTEND;VALUE=DATE:20200923
DTSTAMP:20260424T181206
CREATED:20200922T073854Z
LAST-MODIFIED:20200923T035327Z
UID:820-1600732800-1600819199@aanhpi.org
SUMMARY:Last day to fill out the census
DESCRIPTION:
URL:https://aanhpi.org/event/last-day-to-fill-out-the-census/
END:VEVENT
BEGIN:VEVENT
DTSTART;VALUE=DATE:20200922
DTEND;VALUE=DATE:20200923
DTSTAMP:20260424T181206
CREATED:20200922T073003Z
LAST-MODIFIED:20200922T084232Z
UID:816-1600732800-1600819199@aanhpi.org
SUMMARY:National Voter Registration Day
DESCRIPTION:Register to vote!
URL:https://aanhpi.org/event/national-voter-registration-day/
END:VEVENT
END:VCALENDAR